BEGIN:VCALENDAR
PRODID:-//AT Content Types//AT Event//EN
VERSION:1.0
BEGIN:VEVENT
DTSTART:20181012T120000Z
DTEND:20181012T133000Z
DCREATED:20180802T140324Z
UID:ATEvent-054ce988754d4362a1e24cf920608b80
SEQUENCE:0
LAST-MODIFIED:20180802T140324Z
SUMMARY:CMP-ST
LOCATION:Lecture Room D
PRIORITY:3
TRANSP:0
END:VEVENT
END:VCALENDAR
