BEGIN:VCALENDAR
PRODID:-//AT Content Types//AT Event//EN
VERSION:1.0
BEGIN:VEVENT
DTSTART:20181113T130000Z
DTEND:20181113T143000Z
DCREATED:20180802T140052Z
UID:ATEvent-572ffc83ed8b4076a1576717618d17aa
SEQUENCE:0
LAST-MODIFIED:20180802T140052Z
SUMMARY:CMP-AQM
LOCATION:Lecture Room D
PRIORITY:3
TRANSP:0
END:VEVENT
END:VCALENDAR
