BEGIN:VCALENDAR
PRODID:-//AT Content Types//AT Event//EN
VERSION:1.0
BEGIN:VEVENT
DTSTART:20181105T130000Z
DTEND:20181105T143000Z
DCREATED:20180802T140051Z
UID:ATEvent-02f59627ab8a4e57994e941f349f03ea
SEQUENCE:0
LAST-MODIFIED:20181017T093534Z
SUMMARY:CMP-AQM
LOCATION:Lecture Room D
PRIORITY:3
TRANSP:0
END:VEVENT
END:VCALENDAR
