BEGIN:VCALENDAR
PRODID:-//AT Content Types//AT Event//EN
VERSION:1.0
BEGIN:VEVENT
DTSTART:20181029T100000Z
DTEND:20181029T113000Z
DCREATED:20180802T140051Z
UID:ATEvent-c00e4953e9a2487ca5489f3299d10743
SEQUENCE:0
LAST-MODIFIED:20181016T105456Z
SUMMARY:CMP-AQM
LOCATION:Lecture Room D
PRIORITY:3
TRANSP:0
END:VEVENT
END:VCALENDAR
