BEGIN:VCALENDAR
PRODID:-//AT Content Types//AT Event//EN
VERSION:2.0
METHOD:PUBLISH
BEGIN:VEVENT
DTSTAMP:20260420T204133Z
CREATED:20180801T132104Z
UID:ATEvent-b115b2e8f4c04015b456665ad863994e
LAST-MODIFIED:20180801T132104Z
SUMMARY:MTH-CA
DTSTART:20181102T080000Z
DTEND:20181102T093000Z
LOCATION:Lecture Room D
CONTACT:F. Rodriguez Villegas
URL:https://diploma-clear.ictp.it/courses/weekly-schedule/lecture-room-d/lecture.2018-08-01.6645914908
CLASS:PUBLIC
END:VEVENT
END:VCALENDAR
