BEGIN:VCALENDAR
PRODID:-//AT Content Types//AT Event//EN
VERSION:1.0
BEGIN:VEVENT
DTSTART:20181016T140000Z
DTEND:20181016T153000Z
DCREATED:20180801T131820Z
UID:ATEvent-c8373b9bf90a45ddad215f54449422cd
SEQUENCE:0
LAST-MODIFIED:20181015T150210Z
SUMMARY:MTH-ALG
LOCATION:Lecture Room D
PRIORITY:3
TRANSP:0
END:VEVENT
END:VCALENDAR
