BEGIN:VCALENDAR
PRODID:-//AT Content Types//AT Event//EN
VERSION:2.0
METHOD:PUBLISH
BEGIN:VEVENT
DTSTAMP:20260420T141522Z
CREATED:20180801T133309Z
UID:ATEvent-a7a0beb0ddfc4c73b365cd688a4761c6
LAST-MODIFIED:20180801T133309Z
SUMMARY:MTH-NTS
DTSTART:20181108T080000Z
DTEND:20181108T093000Z
LOCATION:Lecture Room D
CONTACT:A. Sofer
URL:https://diploma-clear.ictp.it/courses/weekly-schedule/lecture-room-d/lecture.2018-08-01.3896449030
CLASS:PUBLIC
END:VEVENT
END:VCALENDAR
