BEGIN:VCALENDAR
PRODID:-//AT Content Types//AT Event//EN
VERSION:1.0
BEGIN:VEVENT
DTSTART:20180208T100000Z
DTEND:20180208T113000Z
DCREATED:20171129T135955Z
UID:ATEvent-e49a8682b12b4d4ea5ccb04ec3d4a62c
SEQUENCE:0
LAST-MODIFIED:20180207T141334Z
SUMMARY:MTH-ODS
LOCATION:Lecture Room D
PRIORITY:3
TRANSP:0
END:VEVENT
END:VCALENDAR
