BEGIN:VCALENDAR
PRODID:-//AT Content Types//AT Event//EN
VERSION:2.0
METHOD:PUBLISH
BEGIN:VEVENT
DTSTAMP:20260420T141507Z
CREATED:20171129T135954Z
UID:ATEvent-26301142155647678be38755491a599e
LAST-MODIFIED:20171129T135954Z
SUMMARY:MTH-ODS
DTSTART:20180122T130000Z
DTEND:20180122T143000Z
LOCATION:Lecture Room D
CONTACT:S. Luzzatto
URL:https://diploma-clear.ictp.it/courses/weekly-schedule/lecture-room-d/lecture.2017-11-29.9948004066
CLASS:PUBLIC
END:VEVENT
END:VCALENDAR
