BEGIN:VCALENDAR
PRODID:-//AT Content Types//AT Event//EN
VERSION:2.0
METHOD:PUBLISH
BEGIN:VEVENT
DTSTAMP:20260423T042749Z
CREATED:20171129T102115Z
UID:ATEvent-6d72e85a04614bf2af5505d3bedd4d31
LAST-MODIFIED:20171129T102115Z
SUMMARY:MTH-FA
DTSTART:20180201T150000Z
DTEND:20180201T163000Z
LOCATION:Lecture Room D
CONTACT:G. Bellettini
URL:https://diploma-clear.ictp.it/courses/weekly-schedule/lecture-room-d/lecture.2017-11-29.8758656647
CLASS:PUBLIC
END:VEVENT
END:VCALENDAR
