BEGIN:VCALENDAR
PRODID:-//AT Content Types//AT Event//EN
VERSION:2.0
METHOD:PUBLISH
BEGIN:VEVENT
DTSTAMP:20260425T132939Z
CREATED:20171129T101630Z
UID:ATEvent-50199d95b91e45369f165c76dddc9fa1
LAST-MODIFIED:20171129T101630Z
SUMMARY:MTH-DG
DTSTART:20180220T080000Z
DTEND:20180220T093000Z
LOCATION:Lecture Room D
CONTACT:C. Arezzo
URL:https://diploma-clear.ictp.it/courses/weekly-schedule/lecture-room-d/lecture.2017-11-29.5903218900
CLASS:PUBLIC
END:VEVENT
END:VCALENDAR
