BEGIN:VCALENDAR
PRODID:-//AT Content Types//AT Event//EN
VERSION:2.0
METHOD:PUBLISH
BEGIN:VEVENT
DTSTAMP:20260420T132906Z
CREATED:20171129T140245Z
UID:ATEvent-29579c38ed814fc3989be0cf2a27afe4
LAST-MODIFIED:20171129T140245Z
SUMMARY:MTH-ODS
DTSTART:20180425T120000Z
DTEND:20180425T133000Z
LOCATION:Lecture Room D
CONTACT:S. Luzzatto
URL:https://diploma-clear.ictp.it/courses/weekly-schedule/lecture-room-d/lecture.2017-11-29.1654720613
CLASS:PUBLIC
END:VEVENT
END:VCALENDAR
