BEGIN:VCALENDAR
PRODID:-//AT Content Types//AT Event//EN
VERSION:1.0
BEGIN:VEVENT
DTSTART:20180112T100000Z
DTEND:20180112T113000Z
DCREATED:20171108T103614Z
UID:ATEvent-d8375c57e90743fc8a45da00eaab72fe
SEQUENCE:0
LAST-MODIFIED:20171108T103702Z
SUMMARY:EXAM
LOCATION:Lecture Room D
PRIORITY:3
TRANSP:0
END:VEVENT
END:VCALENDAR
