BEGIN:VCALENDAR
PRODID:-//AT Content Types//AT Event//EN
VERSION:1.0
BEGIN:VEVENT
DTSTART:20171102T130000Z
DTEND:20171102T143000Z
DCREATED:20170830T140726Z
UID:ATEvent-6c7eb36b50b74bc7a34c6f637d9177df
SEQUENCE:0
LAST-MODIFIED:20170830T140746Z
SUMMARY:CMP-AQM
LOCATION:Lecture Room D
PRIORITY:3
TRANSP:0
END:VEVENT
END:VCALENDAR
