BEGIN:VCALENDAR
PRODID:-//AT Content Types//AT Event//EN
VERSION:1.0
BEGIN:VEVENT
DTSTART:20171215T080000Z
DTEND:20171215T093000Z
DCREATED:20170726T135241Z
UID:ATEvent-e272efbf2d9b4f6bb8dce527b9ae23e7
SEQUENCE:0
LAST-MODIFIED:20170726T135241Z
SUMMARY:MTH-RA
LOCATION:Lecture Room D
PRIORITY:3
TRANSP:0
END:VEVENT
END:VCALENDAR
