BEGIN:VCALENDAR
PRODID:-//AT Content Types//AT Event//EN
VERSION:2.0
METHOD:PUBLISH
BEGIN:VEVENT
DTSTAMP:20260420T141445Z
CREATED:20170720T135057Z
UID:ATEvent-3fb80d33c46c48498706c3b42534c509
LAST-MODIFIED:20170720T135304Z
SUMMARY:MTH-ALG
DTSTART:20170928T140000Z
DTEND:20170928T153000Z
LOCATION:Lecture Room D
CONTACT:L. Göttsche
URL:https://diploma-clear.ictp.it/courses/weekly-schedule/lecture-room-d/lecture.2017-07-20.6573241453
CLASS:PUBLIC
END:VEVENT
END:VCALENDAR
