BEGIN:VCALENDAR
PRODID:-//AT Content Types//AT Event//EN
VERSION:2.0
METHOD:PUBLISH
BEGIN:VEVENT
DTSTAMP:20260421T133711Z
CREATED:20170720T140737Z
UID:ATEvent-57b73e0762254b10bbd6fef71dc60fd8
LAST-MODIFIED:20170720T140737Z
SUMMARY:MTH-CA
DTSTART:20171107T080000Z
DTEND:20171107T093000Z
LOCATION:Lecture Room D
CONTACT:F. Rodriguez Villegas
URL:https://diploma-clear.ictp.it/courses/weekly-schedule/lecture-room-d/lecture.2017-07-20.6571157540
CLASS:PUBLIC
END:VEVENT
END:VCALENDAR
