BEGIN:VCALENDAR
PRODID:-//AT Content Types//AT Event//EN
VERSION:1.0
BEGIN:VEVENT
DTSTART:20170915T140000Z
DTEND:20170915T153000Z
DCREATED:20170720T135056Z
UID:ATEvent-e9e51020d29f4838a055950dc957364e
SEQUENCE:0
LAST-MODIFIED:20170720T135057Z
SUMMARY:MTH-ALG
LOCATION:Lecture Room D
PRIORITY:3
TRANSP:0
END:VEVENT
END:VCALENDAR
