BEGIN:VCALENDAR
PRODID:-//AT Content Types//AT Event//EN
VERSION:2.0
METHOD:PUBLISH
BEGIN:VEVENT
DTSTAMP:20260423T235425Z
CREATED:20170308T124952Z
UID:ATEvent-ff9df647dd2d4fc98d96eca3bf43bb6a
LAST-MODIFIED:20170308T125008Z
SUMMARY:EXAM
DTSTART:20170411T140000Z
DTEND:20170411T153000Z
LOCATION:Lecture Room D
URL:https://diploma-clear.ictp.it/courses/weekly-schedule/lecture-room-d/lecture.2017-03-08.3922484571
CLASS:PUBLIC
END:VEVENT
END:VCALENDAR
