BEGIN:VCALENDAR
PRODID:-//AT Content Types//AT Event//EN
VERSION:2.0
METHOD:PUBLISH
BEGIN:VEVENT
DTSTAMP:20260423T235321Z
CREATED:20161208T150807Z
UID:ATEvent-c436d4425755425db864364fd401da02
LAST-MODIFIED:20161208T150834Z
SUMMARY:MTH-FA
DTSTART:20170206T080000Z
DTEND:20170206T093000Z
LOCATION:Lecture Room D
CONTACT:G. Bellettini
URL:https://diploma-clear.ictp.it/courses/weekly-schedule/lecture-room-d/lecture.2016-12-08.6873248808
CLASS:PUBLIC
END:VEVENT
END:VCALENDAR
