BEGIN:VCALENDAR
PRODID:-//AT Content Types//AT Event//EN
VERSION:1.0
BEGIN:VEVENT
DTSTART:20170411T070000Z
DTEND:20170411T083000Z
DCREATED:20161208T152129Z
UID:ATEvent-899f81ac0ae5473b996be65d1a41bf23
SEQUENCE:0
LAST-MODIFIED:20161208T152130Z
SUMMARY:MTH-PDE
LOCATION:Lecture Room D
PRIORITY:3
TRANSP:0
END:VEVENT
END:VCALENDAR
