BEGIN:VCALENDAR
PRODID:-//AT Content Types//AT Event//EN
VERSION:1.0
BEGIN:VEVENT
DTSTART:20161115T130000Z
DTEND:20161115T143000Z
DCREATED:20160823T080640Z
UID:ATEvent-5df632dc02714dc5a0b97bf2f081e3a9
SEQUENCE:0
LAST-MODIFIED:20160823T080640Z
SUMMARY:CMP-AQM
LOCATION:Lecture Room D
PRIORITY:3
TRANSP:0
END:VEVENT
END:VCALENDAR
