BEGIN:VCALENDAR
PRODID:-//AT Content Types//AT Event//EN
VERSION:2.0
METHOD:PUBLISH
BEGIN:VEVENT
DTSTAMP:20260420T030723Z
CREATED:20160823T075938Z
UID:ATEvent-b3b2cfab57d54dfbaeb5d0fc3dfcc79a
LAST-MODIFIED:20160823T075938Z
SUMMARY:CMP-AQM
DTSTART:20160928T120000Z
DTEND:20160928T133000Z
LOCATION:Lecture Room D
CONTACT:G. Santoro
URL:https://diploma-clear.ictp.it/courses/weekly-schedule/lecture-room-d/lecture.2016-08-23.1783884886
CLASS:PUBLIC
END:VEVENT
END:VCALENDAR
