BEGIN:VCALENDAR
PRODID:-//AT Content Types//AT Event//EN
VERSION:1.0
BEGIN:VEVENT
DTSTART:20161107T150000Z
DTEND:20161107T163000Z
DCREATED:20160720T124315Z
UID:ATEvent-5574a96dcb59497f9155e5a053331d9f
SEQUENCE:0
LAST-MODIFIED:20160720T124315Z
SUMMARY:MTH-ALG
LOCATION:Lecture Room D
PRIORITY:3
TRANSP:0
END:VEVENT
END:VCALENDAR
