BEGIN:VCALENDAR
PRODID:-//AT Content Types//AT Event//EN
VERSION:2.0
METHOD:PUBLISH
BEGIN:VEVENT
DTSTAMP:20260423T212500Z
CREATED:20160412T122950Z
UID:ATEvent-01d3e07d7b42471a8b37d45e0cd4f942
LAST-MODIFIED:20160412T123012Z
SUMMARY:EXAM
DTSTART:20160428T140000Z
DTEND:20160428T153000Z
LOCATION:Lecture Room D
CONTACT:A. Hassanali
URL:https://diploma-clear.ictp.it/courses/weekly-schedule/lecture-room-d/lecture.2016-04-12.1909395309
CLASS:PUBLIC
END:VEVENT
END:VCALENDAR
