BEGIN:VCALENDAR
PRODID:-//AT Content Types//AT Event//EN
VERSION:2.0
METHOD:PUBLISH
BEGIN:VEVENT
DTSTAMP:20260425T133238Z
CREATED:20160302T110511Z
UID:ATEvent-d29cabf96abb4cad914d9ec91905f08d
LAST-MODIFIED:20160302T110624Z
SUMMARY:EXAM
DTSTART:20160401T090000Z
DTEND:20160401T103000Z
LOCATION:Lecture Room D
CONTACT:F. Rodriguez Villegas
URL:https://diploma-clear.ictp.it/courses/weekly-schedule/lecture-room-d/lecture.2016-03-02.7117959610
CLASS:PUBLIC
END:VEVENT
END:VCALENDAR
