BEGIN:VCALENDAR
PRODID:-//AT Content Types//AT Event//EN
VERSION:1.0
BEGIN:VEVENT
DTSTART:20160210T100000Z
DTEND:20160210T113000Z
DCREATED:20151207T134541Z
UID:ATEvent-9abe357f50f44d1b8f27be5511a4f715
SEQUENCE:0
LAST-MODIFIED:20151207T134541Z
SUMMARY:CMP-MBF
LOCATION:Lecture Room D
PRIORITY:3
TRANSP:0
END:VEVENT
END:VCALENDAR
