BEGIN:VCALENDAR
PRODID:-//AT Content Types//AT Event//EN
VERSION:2.0
METHOD:PUBLISH
BEGIN:VEVENT
DTSTAMP:20260425T230556Z
CREATED:20150827T103738Z
UID:ATEvent-e92de6abcded4bfbb4c15120a34538dd
LAST-MODIFIED:20150827T103738Z
SUMMARY:CMP-SM
DTSTART:20151120T150000Z
DTEND:20151120T163000Z
LOCATION:Lecture Room D
CONTACT:A. Silva
URL:https://diploma-clear.ictp.it/courses/weekly-schedule/lecture-room-d/lecture.2015-08-27.8586228136
CLASS:PUBLIC
END:VEVENT
END:VCALENDAR
