BEGIN:VCALENDAR
PRODID:-//AT Content Types//AT Event//EN
VERSION:2.0
METHOD:PUBLISH
BEGIN:VEVENT
DTSTAMP:20260423T043953Z
CREATED:20150827T103738Z
UID:ATEvent-ce8f991dedf942acbd033d22f739c467
LAST-MODIFIED:20150827T103738Z
SUMMARY:CMP-SM
DTSTART:20151112T150000Z
DTEND:20151112T163000Z
LOCATION:Lecture Room D
CONTACT:A. Silva
URL:https://diploma-clear.ictp.it/courses/weekly-schedule/lecture-room-d/lecture.2015-08-27.8582365149
CLASS:PUBLIC
END:VEVENT
END:VCALENDAR
