BEGIN:VCALENDAR
PRODID:-//AT Content Types//AT Event//EN
VERSION:1.0
BEGIN:VEVENT
DTSTART:20151022T140000Z
DTEND:20151022T153000Z
DCREATED:20150827T103737Z
UID:ATEvent-80c2e10164d245edb6fe3ad5989a50fc
SEQUENCE:0
LAST-MODIFIED:20150827T103737Z
SUMMARY:CMP-SM
LOCATION:Lecture Room D
PRIORITY:3
TRANSP:0
END:VEVENT
END:VCALENDAR
