BEGIN:VCALENDAR
PRODID:-//AT Content Types//AT Event//EN
VERSION:2.0
METHOD:PUBLISH
BEGIN:VEVENT
DTSTAMP:20260421T104805Z
CREATED:20150827T103601Z
UID:ATEvent-d2d3b36118ee4ba9af61a6e733ff5700
LAST-MODIFIED:20150827T103601Z
SUMMARY:CMP-AQM
DTSTART:20151201T100000Z
DTEND:20151201T113000Z
LOCATION:Lecture Room D
CONTACT:R. Gebauer
URL:https://diploma-clear.ictp.it/courses/weekly-schedule/lecture-room-d/lecture.2015-08-27.7611845864
CLASS:PUBLIC
END:VEVENT
END:VCALENDAR
