BEGIN:VCALENDAR
PRODID:-//AT Content Types//AT Event//EN
VERSION:1.0
BEGIN:VEVENT
DTSTART:20150910T120000Z
DTEND:20150910T133000Z
DCREATED:20150827T103404Z
UID:ATEvent-a3326eaec2fe4e0aa4c5bc95428ef45e
SEQUENCE:0
LAST-MODIFIED:20150909T094822Z
SUMMARY:CMP-AQM
LOCATION:Lecture Room D
PRIORITY:3
TRANSP:0
END:VEVENT
END:VCALENDAR
