BEGIN:VCALENDAR
PRODID:-//AT Content Types//AT Event//EN
VERSION:1.0
BEGIN:VEVENT
DTSTART:20151118T130000Z
DTEND:20151118T143000Z
DCREATED:20150826T142811Z
UID:ATEvent-b8cda02e1d1e417484ced60ae020a077
SEQUENCE:0
LAST-MODIFIED:20150826T142811Z
SUMMARY:MTH-CS
LOCATION:Lecture Room D
PRIORITY:3
TRANSP:0
END:VEVENT
END:VCALENDAR
