BEGIN:VCALENDAR
PRODID:-//AT Content Types//AT Event//EN
VERSION:1.0
BEGIN:VEVENT
DTSTART:20150331T120000Z
DTEND:20150331T133000Z
DCREATED:20141219T091346Z
UID:ATEvent-11c46f0dba2741f9be89d29f17e995c8
SEQUENCE:0
LAST-MODIFIED:20141219T091346Z
SUMMARY:CMP-ASM
LOCATION:Lecture Room D
PRIORITY:3
TRANSP:0
END:VEVENT
END:VCALENDAR
