BEGIN:VCALENDAR
PRODID:-//AT Content Types//AT Event//EN
VERSION:1.0
BEGIN:VEVENT
DTSTART:20150409T070000Z
DTEND:20150409T083000Z
DCREATED:20141126T144154Z
UID:ATEvent-13df85a4534743749322df08ea89a43b
SEQUENCE:0
LAST-MODIFIED:20150401T145731Z
SUMMARY:MTH-PDE
LOCATION:Lecture Room D
PRIORITY:3
TRANSP:0
END:VEVENT
END:VCALENDAR
