BEGIN:VCALENDAR
PRODID:-//AT Content Types//AT Event//EN
VERSION:1.0
BEGIN:VEVENT
DTSTART:20141112T150000Z
DTEND:20141112T163000Z
DCREATED:20140925T144627Z
UID:ATEvent-ecc42a99d8ce4f61b923a42b0a4edc78
SEQUENCE:0
LAST-MODIFIED:20140925T144627Z
SUMMARY:MTH-ALG tut.
LOCATION:Lecture Room D
PRIORITY:3
TRANSP:0
END:VEVENT
END:VCALENDAR
