BEGIN:VCALENDAR
PRODID:-//AT Content Types//AT Event//EN
VERSION:2.0
METHOD:PUBLISH
BEGIN:VEVENT
DTSTAMP:20260421T025157Z
CREATED:20140829T095654Z
UID:ATEvent-689e859e705747d98519d0a29f3c4258
LAST-MODIFIED:20140829T095654Z
SUMMARY:CMP-ST I
DTSTART:20141107T130000Z
DTEND:20141107T143000Z
LOCATION:Lecture Room D
CONTACT:N. Seriani\, O. Gonzalez
URL:https://diploma-clear.ictp.it/courses/weekly-schedule/lecture-room-d/lecture.2014-08-29.2143703623
CLASS:PUBLIC
END:VEVENT
END:VCALENDAR
