BEGIN:VCALENDAR
PRODID:-//AT Content Types//AT Event//EN
VERSION:1.0
BEGIN:VEVENT
DTSTART:20140919T090000Z
DTEND:20140919T103000Z
DCREATED:20140828T125437Z
UID:ATEvent-0cdc1275b7104849a7bdabd91c2f7fb2
SEQUENCE:0
LAST-MODIFIED:20140831T071741Z
SUMMARY:CMP-MT
LOCATION:Lecture Room D
PRIORITY:3
TRANSP:0
END:VEVENT
END:VCALENDAR
