BEGIN:VCALENDAR
PRODID:-//AT Content Types//AT Event//EN
VERSION:2.0
METHOD:PUBLISH
BEGIN:VEVENT
DTSTAMP:20260424T195133Z
CREATED:20140828T125436Z
UID:ATEvent-e70ef8571cab4d5eab5ac10c5091585f
LAST-MODIFIED:20140831T071715Z
SUMMARY:CMP-MT
DTSTART:20140917T090000Z
DTEND:20140917T103000Z
LOCATION:Lecture Room D
CONTACT:A. Nersesyan
URL:https://diploma-clear.ictp.it/courses/weekly-schedule/lecture-room-d/lecture.2014-08-28.4767601734
CLASS:PUBLIC
END:VEVENT
END:VCALENDAR
