BEGIN:VCALENDAR
PRODID:-//AT Content Types//AT Event//EN
VERSION:2.0
METHOD:PUBLISH
BEGIN:VEVENT
DTSTAMP:20260423T225625Z
CREATED:20140827T100402Z
UID:ATEvent-10758dcb70554eceb6f7def77fc14947
LAST-MODIFIED:20141117T092552Z
SUMMARY:MTH-ODE
DTSTART:20141120T100000Z
DTEND:20141120T113000Z
LOCATION:Lecture Room D
CONTACT:S. Luzzatto
URL:https://diploma-clear.ictp.it/courses/weekly-schedule/lecture-room-d/lecture.2014-08-27.8427327380
CLASS:PUBLIC
END:VEVENT
END:VCALENDAR
