BEGIN:VCALENDAR
PRODID:-//AT Content Types//AT Event//EN
VERSION:1.0
BEGIN:VEVENT
DTSTART:20141201T100000Z
DTEND:20141201T113000Z
DCREATED:20140827T094446Z
UID:ATEvent-597cf80fb9d94560948bd352cdbac5d4
SEQUENCE:0
LAST-MODIFIED:20140827T094447Z
SUMMARY:MTH-RA
LOCATION:Lecture Room D
PRIORITY:3
TRANSP:0
END:VEVENT
END:VCALENDAR
