BEGIN:VCALENDAR
PRODID:-//AT Content Types//AT Event//EN
VERSION:2.0
METHOD:PUBLISH
BEGIN:VEVENT
DTSTAMP:20260422T002724Z
CREATED:20140827T094444Z
UID:ATEvent-3ee8ffea688641c3b4e6354f6cdb2f76
LAST-MODIFIED:20141010T084107Z
SUMMARY:MTH-RA
DTSTART:20141015T090000Z
DTEND:20141015T103000Z
LOCATION:Lecture Room D
CONTACT:R. Musina
URL:https://diploma-clear.ictp.it/courses/weekly-schedule/lecture-room-d/lecture.2014-08-27.6849482092
CLASS:PUBLIC
END:VEVENT
END:VCALENDAR
