BEGIN:VCALENDAR
PRODID:-//AT Content Types//AT Event//EN
VERSION:1.0
BEGIN:VEVENT
DTSTART:20141027T150000Z
DTEND:20141027T163000Z
DCREATED:20140827T092057Z
UID:ATEvent-03ce3a74dc0c43e2b815ef2381d8d9bb
SEQUENCE:0
LAST-MODIFIED:20140827T092057Z
SUMMARY:MTH-TOP
LOCATION:Lecture Room D
PRIORITY:3
TRANSP:0
END:VEVENT
END:VCALENDAR
