BEGIN:VCALENDAR
PRODID:-//AT Content Types//AT Event//EN
VERSION:1.0
BEGIN:VEVENT
DTSTART:20141118T080000Z
DTEND:20141118T093000Z
DCREATED:20140827T093659Z
UID:ATEvent-4a270e1a675b44b4819ea9e6223cbfc1
SEQUENCE:0
LAST-MODIFIED:20140827T093700Z
SUMMARY:MTH-INT
LOCATION:Lecture Room D
PRIORITY:3
TRANSP:0
END:VEVENT
END:VCALENDAR
