BEGIN:VCALENDAR
PRODID:-//AT Content Types//AT Event//EN
VERSION:1.0
BEGIN:VEVENT
DTSTART:20140212T080000Z
DTEND:20140212T093000Z
DCREATED:20131219T164932Z
UID:ATEvent-7b80a7fb0a744ab1ae46647e14f1b731
SEQUENCE:0
LAST-MODIFIED:20131219T164932Z
SUMMARY:MTH-ODE II
LOCATION:Lecture Room D
PRIORITY:3
TRANSP:0
END:VEVENT
END:VCALENDAR
