BEGIN:VCALENDAR
PRODID:-//AT Content Types//AT Event//EN
VERSION:2.0
METHOD:PUBLISH
BEGIN:VEVENT
DTSTAMP:20260422T002734Z
CREATED:20131219T164931Z
UID:ATEvent-4db4ca7a645147c191dbddbb57181895
LAST-MODIFIED:20131219T164931Z
SUMMARY:MTH-ODE II
DTSTART:20140131T080000Z
DTEND:20140131T093000Z
LOCATION:Lecture Room D
CONTACT:S. Luzzatto
URL:https://diploma-clear.ictp.it/courses/weekly-schedule/lecture-room-d/lecture.2013-12-19.7718222649
CLASS:PUBLIC
END:VEVENT
END:VCALENDAR
