BEGIN:VCALENDAR
PRODID:-//AT Content Types//AT Event//EN
VERSION:1.0
BEGIN:VEVENT
DTSTART:20140124T080000Z
DTEND:20140124T093000Z
DCREATED:20131219T164931Z
UID:ATEvent-477a39d6b8d54305b0300ad2d8f5c772
SEQUENCE:0
LAST-MODIFIED:20131219T164931Z
SUMMARY:MTH-ODE II
LOCATION:Lecture Room D
PRIORITY:3
TRANSP:0
END:VEVENT
END:VCALENDAR
