BEGIN:VCALENDAR
PRODID:-//AT Content Types//AT Event//EN
VERSION:1.0
BEGIN:VEVENT
DTSTART:20140411T140000Z
DTEND:20140411T153000Z
DCREATED:20131219T162636Z
UID:ATEvent-314f2e47b05e490fad1e14ae01bb7d1f
SEQUENCE:0
LAST-MODIFIED:20131219T162726Z
SUMMARY:CMP-BIO
LOCATION:Lecture Room D
PRIORITY:3
TRANSP:0
END:VEVENT
END:VCALENDAR
