BEGIN:VCALENDAR
PRODID:-//AT Content Types//AT Event//EN
VERSION:1.0
BEGIN:VEVENT
DTSTART:20140220T100000Z
DTEND:20140220T113000Z
DCREATED:20131219T165858Z
UID:ATEvent-9788b3ade39649bbbf6b74554682b08e
SEQUENCE:0
LAST-MODIFIED:20131219T165858Z
SUMMARY:MTH-DG
LOCATION:Lecture Room D
PRIORITY:3
TRANSP:0
END:VEVENT
END:VCALENDAR
