BEGIN:VCALENDAR
PRODID:-//AT Content Types//AT Event//EN
VERSION:1.0
BEGIN:VEVENT
DTSTART:20140325T080000Z
DTEND:20140325T093000Z
DCREATED:20131219T171433Z
UID:ATEvent-d94be541f4fc4f75818f5d663fe03afb
SEQUENCE:0
LAST-MODIFIED:20131219T171433Z
SUMMARY:MTH-PDE
LOCATION:Lecture Room D
PRIORITY:3
TRANSP:0
END:VEVENT
END:VCALENDAR
